BEGIN:VCALENDAR
VERSION:2.0
PRODID:-//hacksw/handcal//NONSGML v1.0//EN
BEGIN:VEVENT
DTSTAMP:20260513T170000Z
DTSTART:20260513T170000Z
DTEND:20260513T170000Z
LOCATION:Christian Jensen Kolleg, Kirchenstraße 4-13, Breklum, 25821, Deutschland
SUMMARY:Kreisverband Nordfriesland - Einladung zum Frühlingsempfang 
END:VEVENT
END:VCALENDAR
